BEGIN:VCALENDAR
VERSION:2.0
PRODID:-//Viagens e Férias - ECPv5.0.0//NONSGML v1.0//EN
CALSCALE:GREGORIAN
METHOD:PUBLISH
X-WR-CALNAME:Viagens e Férias
X-ORIGINAL-URL:https://www.viagenseferias.net
X-WR-CALDESC:Events for Viagens e Férias
BEGIN:VTIMEZONE
TZID:Europe/Lisbon
BEGIN:DAYLIGHT
TZOFFSETFROM:+0000
TZOFFSETTO:+0100
TZNAME:WEST
DTSTART:20170326T010000
END:DAYLIGHT
BEGIN:STANDARD
TZOFFSETFROM:+0100
TZOFFSETTO:+0000
TZNAME:WET
DTSTART:20171029T010000
END:STANDARD
END:VTIMEZONE
BEGIN:VEVENT
DTSTART;TZID=Europe/Lisbon:20170419T100000
DTEND;TZID=Europe/Lisbon:20170421T170000
DTSTAMP:20260420T181044
CREATED:20170406T201719Z
LAST-MODIFIED:20170406T201719Z
UID:19654-1492596000-1492794000@www.viagenseferias.net
SUMMARY:World Travel Market Africa 2017 (Feira de Turismo na África do Sul)
DESCRIPTION:World Travel Market Africa é a principal exposição B2B do continente africano para os mercados de viagens de entrada e de saída\, apresentando uma diversificada gama de destinos e sectores da indústria para profissionais de viagens sul-africanos\, africanos e internacionais. \nEm 2017\, o World Travel Market Africa realiza-se de 19 a 21 de Abril\, sendo gratuito a quem se registar de forma online. Para além desse período ou que se apresente à porta sem o devido registo tem o preço de 80 dólares. \nAtravés da sua rede de negócios\, alcance mundial e foco regional\, a WTM® Africa cria oportunidades exclusivas de negócios\, proporcionando aos profissionais da indústria: contactos\, conteúdo e relacionamento com as comunidades regionais. \n\n\n\n     (adsbygoogle = window.adsbygoogle || []).push({});\n\n\nEm 2016 a WTM® África 2016 teve 646 expositores a mostrarem os seus produtos e serviços para 4.850 visitantes profissionais em três dias\, com 7.615 compromissos pré-agendados em dois dias de encontros\, reuniões e contactos. WTM® Africa tem-se tornado cada vez mais numa referência regional para empresas e operadores turísticos. \n\n\n\n     (adsbygoogle = window.adsbygoogle || []).push({});\n\n\n\n\n\n\n     (adsbygoogle = window.adsbygoogle || []).push({});\n\n
URL:https://www.viagenseferias.net/world-travel-market-africa-2017-feira
LOCATION:CTICC (Cape Town International Convention Centre)\, CTICC (Cape Town International Convention Centre)\, Cape town\, 8001\, South Africa
CATEGORIES:Feiras
ATTACH;FMTTYPE=image/jpeg:https://www.viagenseferias.net/wp-content/uploads/2017/04/wtmafrica2017.jpg
END:VEVENT
END:VCALENDAR