BEGIN:VCALENDAR
VERSION:2.0
PRODID:-//Viagens e Férias - ECPv5.0.0//NONSGML v1.0//EN
CALSCALE:GREGORIAN
METHOD:PUBLISH
X-WR-CALNAME:Viagens e Férias
X-ORIGINAL-URL:https://www.viagenseferias.net
X-WR-CALDESC:Events for Viagens e Férias
BEGIN:VTIMEZONE
TZID:Europe/Lisbon
BEGIN:DAYLIGHT
TZOFFSETFROM:+0000
TZOFFSETTO:+0100
TZNAME:WEST
DTSTART:20160327T010000
END:DAYLIGHT
BEGIN:STANDARD
TZOFFSETFROM:+0100
TZOFFSETTO:+0000
TZNAME:WET
DTSTART:20161030T010000
END:STANDARD
END:VTIMEZONE
BEGIN:VEVENT
DTSTART;TZID=Europe/Lisbon:20161022T110000
DTEND;TZID=Europe/Lisbon:20161023T180000
DTSTAMP:20260419T183451
CREATED:20161017T172402Z
LAST-MODIFIED:20161017T172402Z
UID:14849-1477134000-1477245600@www.viagenseferias.net
SUMMARY:3ª Expo Abreu - Mercado de Viagens de Inverno 2016
DESCRIPTION:A 3ª edição da Expo Abreu – Mercado de Viagens de Inverno\, terá lugar no pavilhão 2 da Feira Internacional de Lisboa (FIL) nos dias 22 e 23 de Outubro com entrada gratuita e promessa de  descontos até 50%. A feira terá uma área de exposição de 5.000m2\, um espaço lúdico para entretenimento\, postos de venda\, aos quais se juntam as lojas Abreu abertas durante todo o fim de semana\, e cerca de 250 participantes como expositores. \nA Expo Abreu abre ao público no sábado (22)\, das 11h00 às 20h00\, e no domingo (23)\, das 11h00 às 18h00. A entrada é gratuita. \nA divulgação do evento será feita através de 200 mil flyers\, publicidade em muppies\, retaguardas de autocarros\, flashes de metro\, e ainda\, através da imprensa nacional e especializada e das redes sociais. Além destes meios e da Revista Expo Abreu haverá ainda uma brochura Especial Algarve com propostas exclusivas. \n\n\n\n     (adsbygoogle = window.adsbygoogle || []).push({});\n\n\nUma das presenças asseguradas é a a Região de Turismo do Algarve com um que terá 36 metros quadrados e localização central. Além da distribuição de material informativo e de give-aways\, o stand algarvio acolherá ainda a Rota dos Vinhos do Algarve\, para divulgar a rota\, as suas adegas e dar a provar os vinhos da região ao público e aos operadores turísticos presentes no evento. \n\n\n\n     (adsbygoogle = window.adsbygoogle || []).push({});\n\n\n\n\n\n\n     (adsbygoogle = window.adsbygoogle || []).push({});\n\n
URL:https://www.viagenseferias.net/evento/expo-abreu-viagens-inverno-2016
LOCATION:FIL – Feira Internacional de Lisboa\, Lisboa\, R. Bojador\,1998-010 Santa Maria dos Olivais\, Lisboa\, Lisboa\, 1998-010\, 1543\, Portugal
CATEGORIES:Feiras
ATTACH;FMTTYPE=image/jpeg:https://www.viagenseferias.net/wp-content/uploads/2016/10/3expoabreu2016.jpg
ORGANIZER;CN="Viagens%20Abreu":MAILTO:mundo.abreu@abreu.pt
END:VEVENT
END:VCALENDAR