BEGIN:VCALENDAR
VERSION:2.0
PRODID:-//Viagens e Férias - ECPv5.0.0//NONSGML v1.0//EN
CALSCALE:GREGORIAN
METHOD:PUBLISH
X-WR-CALNAME:Viagens e Férias
X-ORIGINAL-URL:https://www.viagenseferias.net
X-WR-CALDESC:Events for Viagens e Férias
BEGIN:VTIMEZONE
TZID:Europe/Lisbon
BEGIN:DAYLIGHT
TZOFFSETFROM:+0000
TZOFFSETTO:+0100
TZNAME:WEST
DTSTART:20160327T010000
END:DAYLIGHT
BEGIN:STANDARD
TZOFFSETFROM:+0100
TZOFFSETTO:+0000
TZNAME:WET
DTSTART:20161030T010000
END:STANDARD
END:VTIMEZONE
BEGIN:VEVENT
DTSTART;VALUE=DATE:20161019
DTEND;VALUE=DATE:20161023
DTSTAMP:20260419T215125
CREATED:20160322T114122Z
LAST-MODIFIED:20180927T075807Z
UID:10999-1476835200-1477180799@www.viagenseferias.net
SUMMARY:9º Festival Internacional ART&TUR 2016 - Vila Nova de Gaia
DESCRIPTION:A 9ª edição do Festival ART&TUR vai decorrer em Vila Nova de Gaia (Portugal) entre os dias 19 e 22 de Outubro de 2016. É organizado pela APTUR – Associação Portuguesa de Turismologia e pela BRIDGE – Events and Entertainment e tem o apoio oficial da Câmara Municipal de Vila Nova de Gaia e da ERT Porto e Norte. \nO que é o ART&TUR \nA missão do Festival ART&TUR tem consistido em alavancar as estratégias de Marketing Turístico através do audiovisual\, premiando as melhores produções a nível mundial. As produções que o ART&TUR distingue são Comerciais de TV\, Filmes Promocionais\, Campanhas Audiovisuais Turísticas\, Documentários\, Reportagens e Programas de TV\, cujas temáticas são o Turismo nas suas diversas vertentes e nos seus variados produtos. \n\n\n\n     (adsbygoogle = window.adsbygoogle || []).push({});\n\n\nO Festival ART&TUR integra desde 2008\, uma rede Internacional de 16 Festivais\, o CIFFT – Comité Internacional dos Festivais de Filmes de Turismo\, com sede em Viena (Áustria) e que conta com o apoio de várias entidades\, UNWTO (World Tourism Organization)\, ETC (European Travel Commission)\, PATA (Pacific Asia Travel Association)\, CATA (Central America Tourism Organization) e a CTO (Caribbean Tourism Organization). \nQual a data de Inscrições em 2016 do 9º Festival Internacional \nO período de inscrições de filmes para as secções competitivas TOURFILM e TV|DOC\, produções nacionais e internacionais decorre até ao dia 30 de Junho de 2016\, e todas as inscrições realizadas até 31 de Março beneficiam de um preço especial (Early Bird Offer) na entry fee. \nO Festival ART&TUR está estruturado em torno de 3 eixos: \n\nCompetição global (256 filmes de 54 países dos 5 continentes na edição de 2015);\nICCT – International Conference on Cinema & Tourism\, já na 7ª edição\, esta Conferência Cientifica tem dado a conhecer as novas tendências no turismo\, cinema e audiovisual;\nFórum ART&TUR espaço de interacção entre profissionais\, investigadores e o público\, dando origem à criação de sinergias entre todos os sectores.\n\nQuem pode concorrer ao evento que decorre em Vila Nova de Gaia \n\n\n\n     (adsbygoogle = window.adsbygoogle || []).push({});\n\n\nA competição está aberta a todas as pessoas e entidades que disponham de produções audiovisuais que promovam eficazmente o turismo ou que indirectamente induzam o turismo através do seu conteúdo. Ao longo das suas edições o Festival ART&TUR tem recebido produções de: \n\nProdutores\, Realizadores e Distribuidores;\nEmpresas de todos os sectores do Turismo;\nAgências de comunicação;\nEntidades Governamentais;\nAutarquias\, comunidades inter-municipais e regiões de turismo;\nFundações e associações;\nEstações de televisão provenientes de todos os continentes.\n\n\n\n\n\n     (adsbygoogle = window.adsbygoogle || []).push({});\n\n
URL:https://www.viagenseferias.net/9-festival-internacional-art-tur-2016-vila-nova-gaia
CATEGORIES:Festival
ATTACH;FMTTYPE=image/jpeg:https://www.viagenseferias.net/wp-content/uploads/2016/03/arttur19222016.jpg
ORGANIZER;CN="APTUR%20%E2%80%93%20Associa%C3%A7%C3%A3o%20Portuguesa%20de%20Turismologia":MAILTO:hugomarcos@aptur.net
END:VEVENT
END:VCALENDAR