BEGIN:VCALENDAR
VERSION:2.0
PRODID:-//Viagens e Férias - ECPv5.0.0//NONSGML v1.0//EN
CALSCALE:GREGORIAN
METHOD:PUBLISH
X-WR-CALNAME:Viagens e Férias
X-ORIGINAL-URL:https://www.viagenseferias.net
X-WR-CALDESC:Events for Viagens e Férias
BEGIN:VTIMEZONE
TZID:Europe/Lisbon
BEGIN:DAYLIGHT
TZOFFSETFROM:+0000
TZOFFSETTO:+0100
TZNAME:WEST
DTSTART:20160327T010000
END:DAYLIGHT
BEGIN:STANDARD
TZOFFSETFROM:+0100
TZOFFSETTO:+0000
TZNAME:WET
DTSTART:20161030T010000
END:STANDARD
END:VTIMEZONE
BEGIN:VEVENT
DTSTART;VALUE=DATE:20161118
DTEND;VALUE=DATE:20161128
DTSTAMP:20260419T164646
CREATED:20161113T122502Z
LAST-MODIFIED:20161113T122502Z
UID:15694-1479427200-1480291199@www.viagenseferias.net
SUMMARY:2ª Edição da Semana Gastronómica das Pousadas em Portugal
DESCRIPTION:A 2ª Edição da Pousadas Gastronomic Week\, (Semana Gastronómica das Pousadas) realiza-se de 18 a 27 de Novembro. Este evento gastronómico apresenta um Menu especial composto por uma Entrada\, Prato principal e Sobremesa\, pelo valor fixo de 20 euros. \nSão 27 os restaurantes da rede Pousadas de Portugal que\, de norte a sul do país e mediante reserva antecipada\, propõem sugestões variadas que reflectem a diversidade da gastronomia regional. Algumas sugestões incluem o Porco preto confitado arroz malandrinho de cogumelos\, Crocante de bacalhau e azeitona\, Estaladiço de alheira de Mirandela\, Tamboril com cremoso de batata-doce e  funcho e caldo de caldeirada. \nDe acordo com Frederico Costa\, Administrador das Pousadas de Portugal: \n\n\n\n     (adsbygoogle = window.adsbygoogle || []).push({});\n\n\n\nO Pousadas Gastronomic Week é mais uma iniciativa das Pousadas de Portugal que está integrada na estratégia de simbolizar a Portugalidade através da gastronomia\, sendo uma excelente oportunidade para degustar o melhor da cozinha regional portuguesa em condições exclusivas deste evento. \n\nOs restaurantes que participam na 2º Edição da Semana Gastronómica das Pousadas são de Norte para Sul de Portugal: Mosteiro de Amares\, Gerês-Caniçada\, Mosteiro de Guimarães\, Viana do Castelo\, Ria\, Viseu\, Serra da Estrela\, Convento Vila Pouca da Beira\, Condeixa-a-Nova\, Mosteiro de Ourém\, Castelo de Óbidos\, Cozinha Velha (Queluz)\, Lisboeta\, Casa do Leão\, Castelo de Palmela\, Castelo de Alcácer\, Convento de Arraiolos\, Convento de Évora\, Convento de Beja\, Convento de Vila Viçosa Castelo de Estremoz\, Mosteiro do Crato\, Marvão\, Castelo de Alvito\, Sagres\, Palácio de Estoi\, Convento de Tavira. \n\n\n\n     (adsbygoogle = window.adsbygoogle || []).push({});\n\n\n\n\n\n\n     (adsbygoogle = window.adsbygoogle || []).push({});\n\n
URL:https://www.viagenseferias.net/2a-edicao-semana-gastronomica-pousadas-portugal
CATEGORIES:Gastronomia
ATTACH;FMTTYPE=image/jpeg:https://www.viagenseferias.net/wp-content/uploads/2016/11/2edicaogastronomiapousadas.jpg
END:VEVENT
END:VCALENDAR