BEGIN:VCALENDAR
VERSION:2.0
PRODID:-//Viagens e Férias - ECPv5.0.0//NONSGML v1.0//EN
CALSCALE:GREGORIAN
METHOD:PUBLISH
X-WR-CALNAME:Viagens e Férias
X-ORIGINAL-URL:https://www.viagenseferias.net
X-WR-CALDESC:Events for Viagens e Férias
BEGIN:VTIMEZONE
TZID:Europe/Madrid
BEGIN:DAYLIGHT
TZOFFSETFROM:+0100
TZOFFSETTO:+0200
TZNAME:CEST
DTSTART:20160327T010000
END:DAYLIGHT
BEGIN:STANDARD
TZOFFSETFROM:+0200
TZOFFSETTO:+0100
TZNAME:CET
DTSTART:20161030T010000
END:STANDARD
END:VTIMEZONE
BEGIN:VEVENT
DTSTART;TZID=Europe/Madrid:20161117T110000
DTEND;TZID=Europe/Madrid:20161120T210000
DTSTAMP:20260419T150333
CREATED:20161109T144320Z
LAST-MODIFIED:20161109T144320Z
UID:15600-1479380400-1479675600@www.viagenseferias.net
SUMMARY:27ª Edição FEHISPOR - Feira de Espanha e Portugal
DESCRIPTION:FEHISPOR\, é uma feira multissetorial onde se juntam empresas de Espanha e Portugal. A feira apresenta sua 27ª edição\, que terá lugar de 17 a 20 Novembro de 2016\, num grande evento empresarial relacionado com o comércio transfronteiriço Ibérico. O evento multi-sectorial terá uma ampla representação comercial de mercado Português e Espanhol em todos os sectores (incluindo o Turismo) e ainda palestras\, performances\, desfiles\, degustações\, espaços temáticos e intercâmbios culturais\, entre outros. \nA feira ocupa 10.000m2 de exposição nos Pavilhões 1\, 2 e 3\, e 40.000m2 de exposição exterior. A entrada no dia 17 é gratuita e nos restantes dias tem um custo de 3 euros por visitante. \nO ano passado estiveram presentes as seguintes entidades portuguesas relacionadas com a industria de lazer e viagens: Agência Regional de Promoção Turística do Alentejo\, Escola de Gastronomia e Turismo de Portalegre\, Turismo do Algarve\, APAL-Turismo de Albufeira\, Associação de Turismo de Portimão\, Castro Marim Golf\, DHM Portugal\, Hotéis Real Portugal\, Inatel Hotéis\, Marina Club Lagos Resort\, Penina Hotel\, Quinta de Santo Antonio Hotel Rural\, Jardim Zoológico de Lisboa\, Câmara Municipal da Nazaré\, Município de Elvas e de Coruche. \n\n\n\n     (adsbygoogle = window.adsbygoogle || []).push({});\n\n\n\n\n\n\n     (adsbygoogle = window.adsbygoogle || []).push({});\n\n
URL:https://www.viagenseferias.net/27a-edicao-fehispor-feira-espanha-portugal
LOCATION:IFEBA – Feria Badajoz\, Feria Badajoz IFEBA - Avda. de Elvas\, s/n\, Badajoz\, 06006\, Spain
CATEGORIES:Feiras
ATTACH;FMTTYPE=image/jpeg:https://www.viagenseferias.net/wp-content/uploads/2016/11/fehispor2016.jpg
ORGANIZER;CN="Ayuntamiento%20de%20Badajoz":MAILTO:info@feriabadajoz.com
END:VEVENT
END:VCALENDAR