BEGIN:VCALENDAR
VERSION:2.0
PRODID:-//Viagens e Férias - ECPv5.0.0//NONSGML v1.0//EN
CALSCALE:GREGORIAN
METHOD:PUBLISH
X-WR-CALNAME:Viagens e Férias
X-ORIGINAL-URL:https://www.viagenseferias.net
X-WR-CALDESC:Events for Viagens e Férias
BEGIN:VTIMEZONE
TZID:Europe/Lisbon
BEGIN:DAYLIGHT
TZOFFSETFROM:+0000
TZOFFSETTO:+0100
TZNAME:WEST
DTSTART:20170326T010000
END:DAYLIGHT
BEGIN:STANDARD
TZOFFSETFROM:+0100
TZOFFSETTO:+0000
TZNAME:WET
DTSTART:20171029T010000
END:STANDARD
END:VTIMEZONE
BEGIN:VEVENT
DTSTART;TZID=Europe/Lisbon:20170421T100000
DTEND;TZID=Europe/Lisbon:20170423T200000
DTSTAMP:20260420T163758
CREATED:20170331T124152Z
LAST-MODIFIED:20170331T124152Z
UID:19475-1492768800-1492977600@www.viagenseferias.net
SUMMARY:25ª Edição da Feira B-Travel: Salão de Turismo 2017
DESCRIPTION:A 25ª Edição da B-Travel\, terá lugar de 21 a 23 de Abril de 2017\, no centro de exposições de Montjuïc\, Fira de Barcelona\, cumprindo 25 anos de história e que vai celebrar de uma forma muito especial. Durante três dias vai disponibilizar até 8.000 produtos turísticos com descontos exclusivos\, presentes e prémios\, a fim de agilizar as vendas e reserva de viagens e férias durante o show. \nAlém de reunir todos os destinos nacionais e internacionais\, vai lançar novas propostas para o público e personalizar ainda mais a exposição como rotas temáticas através dos stands e espaços dedicados ao turismo industrial e glamping. \nEsta Feira nasceu em 1993 como Salão Internacional de Turismo da Catalunha (SITC) e nas últimas três edições lançou uma nova fase sob a nova marca mais orientada para o cliente final  na perspectiva de melhorar as experiências de viagem. \n\n\n\n     (adsbygoogle = window.adsbygoogle || []).push({});\n\n\nNeste contexto\, contará este ano com mais de 5.000m2 de oferta turística com a participação de todas as comunidades autónomas e uma ampla representação de destinos internacionais\, entre os quais estão incluídos a novidade Itália (através da representação do turismo nacional ENIT)\, Jamaica e Indonésia. \nEm destaque a também já habitual presença de agências de viagens\, cruzeiros\, companhias de transporte\, como a Renfe que comemora no salão o seu 25º aniversário do AVE com promoções especiais\, e produtos de turismo de negócios\, tais como os Correos com o seu novo serviço para os peregrinos no Caminho de Santiago. \nNesta edição\, o objectivo principal da Organização é fortalecer o papel do B-Travel como uma grande plataforma para reservar e vender experiências de viagem com uma oferta total de até 8.000 produtos promocionais\, tais como viagens de comboio Barcelona-Paris com 50% de desconto e até 60% em bilhetes de AVE\, rotas InterRail\, viagens de comboio com entrada para museus\, Port Aventura ou Ferrari Land ou estadias em hotéis. \n\n\n\n     (adsbygoogle = window.adsbygoogle || []).push({});\n\n\n\n\n\n\n     (adsbygoogle = window.adsbygoogle || []).push({});\n\n
URL:https://www.viagenseferias.net/25-feira-b-travel-salao-turismo-2017
LOCATION:Fira de Barcelona\, Fira de Barcelona - Avenida Reina Maria cristina\, Barcelona\,  08004 Barcelona\, Spain
CATEGORIES:Feiras
ATTACH;FMTTYPE=image/jpeg:https://www.viagenseferias.net/wp-content/uploads/2017/03/btravel01.jpg
END:VEVENT
END:VCALENDAR