BEGIN:VCALENDAR
VERSION:2.0
PRODID:-//Viagens e Férias - ECPv5.0.0//NONSGML v1.0//EN
CALSCALE:GREGORIAN
METHOD:PUBLISH
X-WR-CALNAME:Viagens e Férias
X-ORIGINAL-URL:https://www.viagenseferias.net
X-WR-CALDESC:Events for Viagens e Férias
BEGIN:VTIMEZONE
TZID:Europe/Lisbon
BEGIN:DAYLIGHT
TZOFFSETFROM:+0000
TZOFFSETTO:+0100
TZNAME:WEST
DTSTART:20160327T010000
END:DAYLIGHT
BEGIN:STANDARD
TZOFFSETFROM:+0100
TZOFFSETTO:+0000
TZNAME:WET
DTSTART:20161030T010000
END:STANDARD
END:VTIMEZONE
BEGIN:VEVENT
DTSTART;TZID=Europe/Lisbon:20161205T080000
DTEND;TZID=Europe/Lisbon:20161207T170000
DTSTAMP:20260419T182735
CREATED:20161201T210002Z
LAST-MODIFIED:20161201T210002Z
UID:16242-1480924800-1481130000@www.viagenseferias.net
SUMMARY:1º Fórum Internacional de Turismo e Património (IFTH16)
DESCRIPTION:O 1º Fórum Internacional de Turismo e Património (IFTH16)\, realiza-se na Universidade Portucalense (UPT) no Porto (Portugal)\, entre os dias 5 e 7 de Dezembro e junta Universidades oriundas de 14 países. O tema é sobre a Água\, Património e Turismo Sustentável. \nO objectivo destas universidades internacionais é promover estudos e práticas a nível internacional\, com o objectivo da utilização e preservação de um recurso tão importante como a água. \nIsabel Vaz de Freitas\, directora do Departamento de Turismo\, Património e Cultura da UPT\, realçou: \n\n\n\n     (adsbygoogle = window.adsbygoogle || []).push({});\n\n\n\nQueremos mostrar que existe ainda muito a fazer nos domínio da criação de turismo em torno da água – rios\, mar\, termas – mas interessa-nos também chamar a atenção para este bem que se esgota na natureza\, bem frágil e que em muitos locais do planeta é já um grande problema. \n\nA Universidade Portucalense irá fazer 4 intervenções no IFTH16 relacionadas com a salvaguarda do património em torno dos rios Douro e Tâmega com o turismo\, a água no Vale do Douro\, e duas relacionadas com a utilização da água na Idade do Ferro. \nO turismo em torno da água segue a tendência nacional e apresenta um crescimento assinalável. Muito associada à prática dos desportos náuticos\, ao turismo de saúde\, nomeadamente através das termas\, ou ao turismo de natureza\, a água desempenha um papel cada vez mais relevante no sector\, apesar de muitas vezes estar subvalorizado. \n\n\n\n     (adsbygoogle = window.adsbygoogle || []).push({});\n\n\n\n\n\n\n     (adsbygoogle = window.adsbygoogle || []).push({});\n\n
URL:https://www.viagenseferias.net/1o-forum-internacional-turismo-patrimonio-ifth16
LOCATION:Universidade Portucalense Infante D. Henrique\, Rua Dr. António Bernardino de Almeida 541\, Porto\, 4200-072 Porto\, Portugal
CATEGORIES:Congresso
ATTACH;FMTTYPE=image/jpeg:https://www.viagenseferias.net/wp-content/uploads/2016/12/ifht16.jpg
END:VEVENT
END:VCALENDAR